BEGIN:VCALENDAR
VERSION:2.0
PRODID:-//1. Boule Club Karlsruhe e.V. - ECPv6.15.20//NONSGML v1.0//EN
CALSCALE:GREGORIAN
METHOD:PUBLISH
X-WR-CALNAME:1. Boule Club Karlsruhe e.V.
X-ORIGINAL-URL:https://www.1bck.de
X-WR-CALDESC:Veranstaltungen für 1. Boule Club Karlsruhe e.V.
REFRESH-INTERVAL;VALUE=DURATION:PT1H
X-Robots-Tag:noindex
X-PUBLISHED-TTL:PT1H
BEGIN:VTIMEZONE
TZID:Europe/Berlin
BEGIN:DAYLIGHT
TZOFFSETFROM:+0100
TZOFFSETTO:+0200
TZNAME:CEST
DTSTART:20250330T010000
END:DAYLIGHT
BEGIN:STANDARD
TZOFFSETFROM:+0200
TZOFFSETTO:+0100
TZNAME:CET
DTSTART:20251026T010000
END:STANDARD
BEGIN:DAYLIGHT
TZOFFSETFROM:+0100
TZOFFSETTO:+0200
TZNAME:CEST
DTSTART:20260329T010000
END:DAYLIGHT
BEGIN:STANDARD
TZOFFSETFROM:+0200
TZOFFSETTO:+0100
TZNAME:CET
DTSTART:20261025T010000
END:STANDARD
BEGIN:DAYLIGHT
TZOFFSETFROM:+0100
TZOFFSETTO:+0200
TZNAME:CEST
DTSTART:20270328T010000
END:DAYLIGHT
BEGIN:STANDARD
TZOFFSETFROM:+0200
TZOFFSETTO:+0100
TZNAME:CET
DTSTART:20271031T010000
END:STANDARD
END:VTIMEZONE
BEGIN:VEVENT
DTSTART;VALUE=DATE:20260501
DTEND;VALUE=DATE:20260502
DTSTAMP:20260421T171946
CREATED:20260212T203449Z
LAST-MODIFIED:20260420T050409Z
UID:5975-1777593600-1777679999@www.1bck.de
SUMMARY:Rolf-Gentz-Pokal-Turnier am 1. Mai 2026
DESCRIPTION:Traditionsturnier mit alljährlich großer Teilnehmerzahl – 2025 waren es 60. \nAnmeldung vor Ort bis 11 Uhr! \n\nModus:             Doublette Supermélee\nStartgeld:         10 Euro für\n\n\n\n\n\n\n\n\n\nTeilnahme am Spiel\nGetränke\ngute Unterhaltung\n\n\n\n\n\n\n\n\n\n\nBuffet:             JEDER BRINGT WAS MIT\n\nVerantwortlich für die Vorbereitung: Andy Haak \n 
URL:https://www.1bck.de/event/rolf-gentz-pokal-turnier-am-1-mai-2026/
END:VEVENT
END:VCALENDAR