BEGIN:VCALENDAR
VERSION:2.0
PRODID:-//1. Boule Club Karlsruhe e.V. - ECPv6.15.20//NONSGML v1.0//EN
CALSCALE:GREGORIAN
METHOD:PUBLISH
X-WR-CALNAME:1. Boule Club Karlsruhe e.V.
X-ORIGINAL-URL:https://www.1bck.de
X-WR-CALDESC:Veranstaltungen für 1. Boule Club Karlsruhe e.V.
REFRESH-INTERVAL;VALUE=DURATION:PT1H
X-Robots-Tag:noindex
X-PUBLISHED-TTL:PT1H
BEGIN:VTIMEZONE
TZID:Europe/Berlin
BEGIN:DAYLIGHT
TZOFFSETFROM:+0100
TZOFFSETTO:+0200
TZNAME:CEST
DTSTART:20250330T010000
END:DAYLIGHT
BEGIN:STANDARD
TZOFFSETFROM:+0200
TZOFFSETTO:+0100
TZNAME:CET
DTSTART:20251026T010000
END:STANDARD
BEGIN:DAYLIGHT
TZOFFSETFROM:+0100
TZOFFSETTO:+0200
TZNAME:CEST
DTSTART:20260329T010000
END:DAYLIGHT
BEGIN:STANDARD
TZOFFSETFROM:+0200
TZOFFSETTO:+0100
TZNAME:CET
DTSTART:20261025T010000
END:STANDARD
BEGIN:DAYLIGHT
TZOFFSETFROM:+0100
TZOFFSETTO:+0200
TZNAME:CEST
DTSTART:20270328T010000
END:DAYLIGHT
BEGIN:STANDARD
TZOFFSETFROM:+0200
TZOFFSETTO:+0100
TZNAME:CET
DTSTART:20271031T010000
END:STANDARD
END:VTIMEZONE
BEGIN:VEVENT
DTSTART;TZID=Europe/Berlin:20260516T110000
DTEND;TZID=Europe/Berlin:20260516T170000
DTSTAMP:20260421T194329
CREATED:20260418T132134Z
LAST-MODIFIED:20260419T084751Z
UID:6167-1778929200-1778950800@www.1bck.de
SUMMARY:Tournois Francais 6 - Ein TF besonderer Art!
DESCRIPTION:Da bei diesem TF noch Spielerinnen und Spieler aus Frankreich\, England und Berlin dabei sein werden\, wird es in leicht veränderter Form durchgeführt: \n\nModus: Doublette Supermelée\n3 Spiele Vorrunde\nDie besten 16 spielen die Finalrunden\nStartgeld: 5 Euro\nJeder Sieg in der Vorrunde bringt 2\,50 Euro/Spieler*in\nDie Spieler*innen der Finalrunden erhalten zusätzliche Geldpreise.\n\nAnmeldung hier
URL:https://www.1bck.de/event/tournois-francais-4-ein-tf-besonderer-art/
END:VEVENT
END:VCALENDAR