BEGIN:VCALENDAR
VERSION:2.0
PRODID:-//1. Boule Club Karlsruhe e.V. - ECPv6.15.20//NONSGML v1.0//EN
CALSCALE:GREGORIAN
METHOD:PUBLISH
X-WR-CALNAME:1. Boule Club Karlsruhe e.V.
X-ORIGINAL-URL:https://www.1bck.de
X-WR-CALDESC:Veranstaltungen für 1. Boule Club Karlsruhe e.V.
REFRESH-INTERVAL;VALUE=DURATION:PT1H
X-Robots-Tag:noindex
X-PUBLISHED-TTL:PT1H
BEGIN:VTIMEZONE
TZID:Europe/Berlin
BEGIN:DAYLIGHT
TZOFFSETFROM:+0100
TZOFFSETTO:+0200
TZNAME:CEST
DTSTART:20230326T010000
END:DAYLIGHT
BEGIN:STANDARD
TZOFFSETFROM:+0200
TZOFFSETTO:+0100
TZNAME:CET
DTSTART:20231029T010000
END:STANDARD
BEGIN:DAYLIGHT
TZOFFSETFROM:+0100
TZOFFSETTO:+0200
TZNAME:CEST
DTSTART:20240331T010000
END:DAYLIGHT
BEGIN:STANDARD
TZOFFSETFROM:+0200
TZOFFSETTO:+0100
TZNAME:CET
DTSTART:20241027T010000
END:STANDARD
BEGIN:DAYLIGHT
TZOFFSETFROM:+0100
TZOFFSETTO:+0200
TZNAME:CEST
DTSTART:20250330T010000
END:DAYLIGHT
BEGIN:STANDARD
TZOFFSETFROM:+0200
TZOFFSETTO:+0100
TZNAME:CET
DTSTART:20251026T010000
END:STANDARD
BEGIN:DAYLIGHT
TZOFFSETFROM:+0100
TZOFFSETTO:+0200
TZNAME:CEST
DTSTART:20260329T010000
END:DAYLIGHT
BEGIN:STANDARD
TZOFFSETFROM:+0200
TZOFFSETTO:+0100
TZNAME:CET
DTSTART:20261025T010000
END:STANDARD
BEGIN:DAYLIGHT
TZOFFSETFROM:+0100
TZOFFSETTO:+0200
TZNAME:CEST
DTSTART:20270328T010000
END:DAYLIGHT
BEGIN:STANDARD
TZOFFSETFROM:+0200
TZOFFSETTO:+0100
TZNAME:CET
DTSTART:20271031T010000
END:STANDARD
END:VTIMEZONE
BEGIN:VEVENT
DTSTART;TZID=Europe/Berlin:20260329T130000
DTEND;TZID=Europe/Berlin:20260329T170000
DTSTAMP:20260421T153355
CREATED:20260321T224427Z
LAST-MODIFIED:20260324T144343Z
UID:6129-1774789200-1774803600@www.1bck.de
SUMMARY:Tournois Francais 4 und 5
DESCRIPTION:Warum TF 4 und TF 5 an einem Tag? \nSTOP lässt nur Turniere in einem Modus zu. An einem BcK-Turniertag soll aber auch gewechselt werden: Doubletten und TâT. \nDrum: \n\nTF 4 sind 2 Doubletten Supermelée\nTF 5 ist ein TâT\n\nFür beide Turniere müsst ihr euch also einschreiben\, um dann wie gewohnt drei Spiele zu machen. \nEinschreibung TF 4 Doubletten \nEinschreibung TF 5 TâT \n 
URL:https://www.1bck.de/event/tournois-francais-4-und-5/
END:VEVENT
BEGIN:VEVENT
DTSTART;TZID=Europe/Berlin:20260315T130000
DTEND;TZID=Europe/Berlin:20260315T170000
DTSTAMP:20260421T153355
CREATED:20260226T210518Z
LAST-MODIFIED:20260311T200421Z
UID:6069-1773579600-1773594000@www.1bck.de
SUMMARY:Tournoi français 3
DESCRIPTION:  \n\n			\n				\n			\n			\n		\n\nModus: Supermelée \nMeldet euch bitte an. Der Link \nAnmeldung \nbringt euch zu STOP\, Allez Les Boules anklicken\, Tournoi français 3 auwählen\, und schon könnt ihr euch einschreiben. Danke
URL:https://www.1bck.de/event/tf-nr-3/
END:VEVENT
BEGIN:VEVENT
DTSTART;TZID=Europe/Berlin:20260305T190000
DTEND;TZID=Europe/Berlin:20260305T220000
DTSTAMP:20260421T153355
CREATED:20260212T212248Z
LAST-MODIFIED:20260215T112021Z
UID:5981-1772737200-1772748000@www.1bck.de
SUMMARY:"Caminetto - Cup"
DESCRIPTION:Die Sega-Runde der Donnerstage möchte sich verlagern\, nachdem es sicherlich bald zu warm ist für den Glühweintrunk. \nGeplant sind die Meetings immer am 1. Donnerstag eines Monats\,\nalso das erste Mal am 5. März um 19:00 Uhr.\nZur Anmeldung benutze ich unser Pétanque-Programm STOP\, wo du dich wie zu einem Turnier bei „Caminetto-Cup“ einträgst. Ganz einfach\, du musst dann nur noch kommen.\nAnmeldung\nAnmeldung muss bis Sonntag\, 1. März erfolgen\, damit noch rechtzeitig reserviert werden kann. Danke
URL:https://www.1bck.de/event/caminetto-treff-2/
END:VEVENT
BEGIN:VEVENT
DTSTART;TZID=Europe/Berlin:20260208T130000
DTEND;TZID=Europe/Berlin:20260208T170000
DTSTAMP:20260421T153355
CREATED:20260122T152508Z
LAST-MODIFIED:20260122T192814Z
UID:5949-1770555600-1770570000@www.1bck.de
SUMMARY:Tournois Français Nr. 2
DESCRIPTION:Modus: Doublette Formée \nStartgeld: 5 Euro\, sind am Spieltag zu bezahlen \nDie Anmeldung zum 2. TF 2026 soll online über folgenden Link erfolgen : \nAnmeldung TF 2\nNach Anklicken des Links: \n\nAllez Les Boules anklicken\nEinschreibung TF 2 anklicken\neinschreiben anklicken\nTelefonnummer und E-Mail-Adresse eintragen (ist wichtig\, falls du dich wieder abmelden möchtest!)
URL:https://www.1bck.de/event/tournois-francais-nr-2/
END:VEVENT
BEGIN:VEVENT
DTSTART;TZID=Europe/Berlin:20260112T190000
DTEND;TZID=Europe/Berlin:20260112T213000
DTSTAMP:20260421T153355
CREATED:20251204T202944Z
LAST-MODIFIED:20251204T202944Z
UID:5804-1768244400-1768253400@www.1bck.de
SUMMARY:Mitgliederversammlung
DESCRIPTION:
URL:https://www.1bck.de/event/mitgliederversammlung-3/
LOCATION:Restaurant Akropolis\, Baumeisterstraße\, Karlsruhe
END:VEVENT
BEGIN:VEVENT
DTSTART;TZID=Europe/Berlin:20260106T130000
DTEND;TZID=Europe/Berlin:20260106T170000
DTSTAMP:20260421T153355
CREATED:20251229T223604Z
LAST-MODIFIED:20251231T170533Z
UID:5827-1767704400-1767718800@www.1bck.de
SUMMARY:Dreikönigsturnier 2026
DESCRIPTION:Wie schon seit vielen Jahren findet am 6. Januar das Dreikönigsturnier statt. \nDas erste Turnier im neuen Jahr ist dann auch das das 1. Tournois Francais\, und deshalb schon „wichtig“ für die Rangliste des Jahres 2026. \nDie Turnierleitung übernimmt dankbarerweise Stéphane \nModus: Supermelée \nStartgeld wird für dieses Turnier nicht erhoben. Geld gibt es also nicht zu gewinnen\, lediglich jeweils eine Flasche Sekt für die Sieger des Finales\, das unter den besten 6 ausgespielt wird –> 3 Königsturnier 😉 \nWichtig! Wichtig! Wichtig!: \nDie Anmeldung soll in diesem Jahr online erfolgen über diesen Link: \nhttps://1bck.bawue.pétanque.org/#dialog_selectTurnier \n 
URL:https://www.1bck.de/event/dreikoenigsturnier-2026/
END:VEVENT
BEGIN:VEVENT
DTSTART;VALUE=DATE:20251003
DTEND;VALUE=DATE:20251006
DTSTAMP:20260421T153355
CREATED:20250109T215048Z
LAST-MODIFIED:20250823T151516Z
UID:5276-1759449600-1759708799@www.1bck.de
SUMMARY:Soultzer Kopf
DESCRIPTION:Anreise ist bereits am Freitag möglich \nDas Turnier findet am Samstag ab 11 Uhr statt. \nUm Anmeldungen wurde bereits gebeten\, und das soll hiermit nochmals geschehen
URL:https://www.1bck.de/event/soultzer-kopf/
END:VEVENT
BEGIN:VEVENT
DTSTART;TZID=Europe/Berlin:20250921T130000
DTEND;TZID=Europe/Berlin:20250921T170000
DTSTAMP:20260421T153355
CREATED:20250109T102532Z
LAST-MODIFIED:20250109T102532Z
UID:5262-1758459600-1758474000@www.1bck.de
SUMMARY:Finale TF-Runde 2025
DESCRIPTION:
URL:https://www.1bck.de/event/finale-tf-runde-2025/
END:VEVENT
BEGIN:VEVENT
DTSTART;TZID=Europe/Berlin:20250907T130000
DTEND;TZID=Europe/Berlin:20250907T170000
DTSTAMP:20260421T153355
CREATED:20250226T191514Z
LAST-MODIFIED:20250226T192430Z
UID:5332-1757250000-1757264400@www.1bck.de
SUMMARY:Tournois Français 11
DESCRIPTION:Modus: Doublette Formée Mixte \nVerantwortlich: PH
URL:https://www.1bck.de/event/tournois-francais-10/
END:VEVENT
BEGIN:VEVENT
DTSTART;VALUE=DATE:20250802
DTEND;VALUE=DATE:20250803
DTSTAMP:20260421T153355
CREATED:20250602T193314Z
LAST-MODIFIED:20250602T193628Z
UID:5622-1754092800-1754179199@www.1bck.de
SUMMARY:Storchentriplette in Graben-Neudorf
DESCRIPTION:Storchentriplette des BC VinRouge
URL:https://www.1bck.de/event/storchentriplette/
LOCATION:Graben-Neudorf
END:VEVENT
BEGIN:VEVENT
DTSTART;TZID=Europe/Berlin:20250801T190000
DTEND;TZID=Europe/Berlin:20250801T230000
DTSTAMP:20260421T153355
CREATED:20250226T191243Z
LAST-MODIFIED:20250226T192240Z
UID:5330-1754074800-1754089200@www.1bck.de
SUMMARY:Tournois Français 10 - SemiNocturne
DESCRIPTION:Modus: Doublette Formée \nVerantwortlich: Thomas Karch + ……..
URL:https://www.1bck.de/event/tournois-francais-9-seminocturne/
END:VEVENT
BEGIN:VEVENT
DTSTART;TZID=Europe/Berlin:20250720T130000
DTEND;TZID=Europe/Berlin:20250720T170000
DTSTAMP:20260421T153355
CREATED:20250226T190959Z
LAST-MODIFIED:20250226T192153Z
UID:5328-1753016400-1753030800@www.1bck.de
SUMMARY:Tournois Français 9
DESCRIPTION:Modus: TâT – 4 Runden \nVerantwortlich: Stéphane
URL:https://www.1bck.de/event/tournois-francais-8/
END:VEVENT
BEGIN:VEVENT
DTSTART;TZID=Europe/Berlin:20250706T130000
DTEND;TZID=Europe/Berlin:20250706T170000
DTSTAMP:20260421T153355
CREATED:20250225T220126Z
LAST-MODIFIED:20250226T192101Z
UID:5321-1751806800-1751821200@www.1bck.de
SUMMARY:Tournois Français 8
DESCRIPTION:Modus: Doublette-Melée \nVerantwortlich: Peter Z.
URL:https://www.1bck.de/event/tournois-francais-7/
END:VEVENT
BEGIN:VEVENT
DTSTART;TZID=Europe/Berlin:20250601T130000
DTEND;TZID=Europe/Berlin:20250601T170000
DTSTAMP:20260421T153355
CREATED:20250225T215642Z
LAST-MODIFIED:20250226T191706Z
UID:5318-1748782800-1748797200@www.1bck.de
SUMMARY:Tournois Français 7
DESCRIPTION:Modus: Doublette-Supermelée \nVerantwortlich: PH
URL:https://www.1bck.de/event/tournois-francais-6/
END:VEVENT
BEGIN:VEVENT
DTSTART;VALUE=DATE:20250529
DTEND;VALUE=DATE:20250530
DTSTAMP:20260421T153355
CREATED:20250104T185840Z
LAST-MODIFIED:20250416T150206Z
UID:5240-1748476800-1748563199@www.1bck.de
SUMMARY:Karlsruher Schlosscup 2025
DESCRIPTION:Einschreibung bis 9:30\nTurnierbeginn 10:00\nModus: Doublette Formée\,\nACBD\nEinschreibegebühr: 15 Euro / Team\nPreisgeldausschüttung: 100 % + 200 Euro\n\nDer Karlsruher Schlosscup findet in diesem Jahr als lizenzfreie Doublette im Rahmen der Turnierserie des „GRAND PRIX DE PÈTANQUE AKTUELL“ statt. Innerhalb dieser Serie werden Punkte vergeben\, siehe \nGrand-Prix-de-Pétanque-aktuell \n \n  \n 
URL:https://www.1bck.de/event/karlsruher-schlosscup-2025/
END:VEVENT
BEGIN:VEVENT
DTSTART;TZID=Europe/Berlin:20250518T130000
DTEND;TZID=Europe/Berlin:20250518T170000
DTSTAMP:20260421T153355
CREATED:20250225T215417Z
LAST-MODIFIED:20250225T215417Z
UID:5316-1747573200-1747587600@www.1bck.de
SUMMARY:Tournoi Français 6
DESCRIPTION:Modus: Doublette Formée \nVerantwortlich: Stéphane
URL:https://www.1bck.de/event/tournoi-francais-6/
END:VEVENT
BEGIN:VEVENT
DTSTART;TZID=Europe/Berlin:20250501T110000
DTEND;TZID=Europe/Berlin:20250501T200000
DTSTAMP:20260421T153355
CREATED:20250109T214312Z
LAST-MODIFIED:20250418T182221Z
UID:5272-1746097200-1746129600@www.1bck.de
SUMMARY:Turnier am 1. Mai 2025
DESCRIPTION:Traditionsgemäßes Bouleturnier unseres Vereins um den \nRolf-Gentz-Pokal\n\nEinschreibung bis 11 Uhr\n4 Runden Supermelée\n10 Euro für Einschreibung und alles was auf die Theke kommt. Jeder bringt halt was zu Essen mit\, der Verein bringt die Getränke\nFinalrunde der besten 8 -KO-System-\nDie beiden Finalsieger spielen im TâT um den 1.-Mai-Pokal und die Ehre\n\n 
URL:https://www.1bck.de/event/turnier-am-1-mai-2025/
END:VEVENT
BEGIN:VEVENT
DTSTART;TZID=Europe/Berlin:20250330T113000
DTEND;TZID=Europe/Berlin:20250330T170000
DTSTAMP:20260421T153355
CREATED:20250109T103752Z
LAST-MODIFIED:20250109T103752Z
UID:5268-1743334200-1743354000@www.1bck.de
SUMMARY:Mannschaftsvergleich
DESCRIPTION:Unsere 5 Mannschaften spielen ligamäßig gegeneinander \nDa fünf Mannschaften eine unglückliche Anzahl für für die Partien sind\, wird ein Modus ausgeknobelt\, der keine Freilose enthält. \nJost wird mit einem Weißwurstessen diesen Tag verschönern 😉
URL:https://www.1bck.de/event/mannschaftsvergleich/
END:VEVENT
BEGIN:VEVENT
DTSTART;TZID=Europe/Berlin:20250316T130000
DTEND;TZID=Europe/Berlin:20250316T170000
DTSTAMP:20260421T153355
CREATED:20250225T214839Z
LAST-MODIFIED:20250225T215046Z
UID:5312-1742130000-1742144400@www.1bck.de
SUMMARY:Tournois Français 5
DESCRIPTION:Modus: 2 Partien Doublette Formée + 1 Partie TâT der Doublette-Partner \nVerantwortlich: Volker Schlitt
URL:https://www.1bck.de/event/tournois-francais-5/
END:VEVENT
BEGIN:VEVENT
DTSTART;TZID=Europe/Berlin:20250302T130000
DTEND;TZID=Europe/Berlin:20250302T170000
DTSTAMP:20260421T153355
CREATED:20250206T092639Z
LAST-MODIFIED:20250207T100930Z
UID:5300-1740920400-1740934800@www.1bck.de
SUMMARY:Tournois Français 4
DESCRIPTION:Modus: Doublette Melée \n\n 2 Spiele mit dem Melée-Partner (Doublette)\n 1 TâT gegen den Melée-Partner
URL:https://www.1bck.de/event/tf-4-2/
END:VEVENT
BEGIN:VEVENT
DTSTART;TZID=Europe/Berlin:20250216T130000
DTEND;TZID=Europe/Berlin:20250216T170000
DTSTAMP:20260421T153355
CREATED:20250109T103047Z
LAST-MODIFIED:20250203T222408Z
UID:5266-1739710800-1739725200@www.1bck.de
SUMMARY:Tournois Français 3
DESCRIPTION:Modus : Doublette formée
URL:https://www.1bck.de/event/tournois-francais-3/
END:VEVENT
BEGIN:VEVENT
DTSTART;TZID=Europe/Berlin:20250203T190000
DTEND;TZID=Europe/Berlin:20250203T213000
DTSTAMP:20260421T153355
CREATED:20241226T113118Z
LAST-MODIFIED:20241226T113718Z
UID:5218-1738609200-1738618200@www.1bck.de
SUMMARY:Mitgliederversammlung
DESCRIPTION:Alljährliche Mitgliederversammlung bei FOTIS \nBeginn der Mitgliederversammlung ist um 19 Uhr. Sinnvoll ist frühes Erscheinen\, um vorher zu essen\, falls dies gewünscht.
URL:https://www.1bck.de/event/mitgliederversammlung-2/
LOCATION:Restaurant Akropolis\, Baumeisterstraße\, Karlsruhe
END:VEVENT
BEGIN:VEVENT
DTSTART;TZID=Europe/Berlin:20250202T130000
DTEND;TZID=Europe/Berlin:20250202T170000
DTSTAMP:20260421T153355
CREATED:20250109T213856Z
LAST-MODIFIED:20250109T213856Z
UID:5270-1738501200-1738515600@www.1bck.de
SUMMARY:Tournois Français 2
DESCRIPTION:
URL:https://www.1bck.de/event/tournois-francais-2-3/
END:VEVENT
BEGIN:VEVENT
DTSTART;TZID=Europe/Berlin:20250202T130000
DTEND;TZID=Europe/Berlin:20250202T130000
DTSTAMP:20260421T153355
CREATED:20250109T102931Z
LAST-MODIFIED:20250126T130909Z
UID:5264-1738501200-1738501200@www.1bck.de
SUMMARY:Tournois Français 2
DESCRIPTION:Modus: \n\n2 Partien Doublette formée\,\n ein die dritte Partie ist ein T^T der beiden Doublette-Partner
URL:https://www.1bck.de/event/tournois-francais-2-2/
END:VEVENT
BEGIN:VEVENT
DTSTART;TZID=Europe/Berlin:20250106T130000
DTEND;TZID=Europe/Berlin:20250106T170000
DTSTAMP:20260421T153355
CREATED:20241226T112340Z
LAST-MODIFIED:20241226T112501Z
UID:5215-1736168400-1736182800@www.1bck.de
SUMMARY:Dreikönigsturnier
DESCRIPTION:Wie jedes Jahr am 6. Janaur …… die 3 Könige werden ausgespielt und es ist unser 1. Turnier in der Tournoi-Français-Serie \n\n3 Runden Supermelée\ndie besten 6 spielen die Finalrunde\nStartgeld 5 Euro\nfür jeden Sieg gibt es 2\,50 Euro Siegprämie\nGlühwein gibt es natürlich auch gegen Spende\nÜbriggebliebenes Weihnachtsgebäck darf mitgebracht werden\n\n 
URL:https://www.1bck.de/event/dreikoenigsturnier/
END:VEVENT
BEGIN:VEVENT
DTSTART;TZID=Europe/Berlin:20240915T130000
DTEND;TZID=Europe/Berlin:20240915T170000
DTSTAMP:20260421T153355
CREATED:20240912T210807Z
LAST-MODIFIED:20240913T180929Z
UID:5190-1726405200-1726419600@www.1bck.de
SUMMARY:Finalturnier TF 2024
DESCRIPTION:Früh im Jahr\, aber nach 10 Tournois auch schon möglich  🙂 \n\nDie besten 16 treten an /evtl. auch Nachrücker\nModus Supermelée\n3 Runden bis 11\nA-Final-Runde der besten 8\nB-Final-Runde der Spieler von 9 – 16 (oder Nachrücker)\nGewinnausschüttung je nach Platzierung in den Finalrunden (Jeder kriegt was -:)
URL:https://www.1bck.de/event/finalturnier-tf-2024/
END:VEVENT
BEGIN:VEVENT
DTSTART;TZID=Europe/Berlin:20240907T110000
DTEND;TZID=Europe/Berlin:20240908T120000
DTSTAMP:20260421T153355
CREATED:20240823T154739Z
LAST-MODIFIED:20240825T220205Z
UID:5175-1725706800-1725796800@www.1bck.de
SUMMARY:Soultzer Kopf 2024
DESCRIPTION:…. findet in diesem Jahr nicht von Freitagabend bis Sonntagmorgen\, sondern lediglich als Turnier mit abendlichem Nachschlag am Samstag\, 7. September 2024 statt. \n\nModus: Doublette formée\n4 Runden bis 11\nFinalrunde der besten 8\n\nEinschreibegebühr 20 Euro\, womit auch alle Kosten für Essen und Trinken bezahlt sind. \n 
URL:https://www.1bck.de/event/soultzer-kopf-2024/
END:VEVENT
BEGIN:VEVENT
DTSTART;TZID=Europe/Berlin:20240720T000000
DTEND;TZID=Europe/Berlin:20240720T200000
DTSTAMP:20260421T153355
CREATED:20240518T212000Z
LAST-MODIFIED:20240518T212522Z
UID:5069-1721433600-1721505600@www.1bck.de
SUMMARY:Jubiläumsturnier 30 Jahre Boule in Linkenheim
DESCRIPTION:Für nähere Infos gehe auf folgenden Link \n30 Jahre Boule in Linkenheim
URL:https://www.1bck.de/event/jubilaeumsturnier-30-jahre-boule-in-linkenheim/
END:VEVENT
BEGIN:VEVENT
DTSTART;TZID=Europe/Berlin:20240616T130000
DTEND;TZID=Europe/Berlin:20240616T170000
DTSTAMP:20260421T153355
CREATED:20240608T212019Z
LAST-MODIFIED:20240608T212139Z
UID:5093-1718542800-1718557200@www.1bck.de
SUMMARY:TF 7 Doublette Supermelée
DESCRIPTION:Eigentlich als Nocturne am Freitag angedacht\, aber EM-Spiel Deutschland gegen Schottland lässt das nicht zu\, also Sonntag\, wie immer
URL:https://www.1bck.de/event/tf-7-doublette-supermelee-2/
END:VEVENT
BEGIN:VEVENT
DTSTART;TZID=Europe/Berlin:20240607T080000
DTEND;TZID=Europe/Berlin:20240607T170000
DTSTAMP:20260421T153355
CREATED:20240608T062701Z
LAST-MODIFIED:20240608T062701Z
UID:5087-1717747200-1717779600@www.1bck.de
SUMMARY:TF 7 Doublette Supermelée
DESCRIPTION:Das für Freitagabend vorgesehene TF muss wegen des EM-Eröffnungsspiel auf den Sonntag verschoben werden.
URL:https://www.1bck.de/event/tf-7-doublette-supermelee/
END:VEVENT
END:VCALENDAR